BEGIN:VCALENDAR
VERSION:2.0
PRODID:-//ChamberMaster//Event Calendar 2.0//EN
METHOD:PUBLISH
X-PUBLISHED-TTL:P3D
REFRESH-INTERVAL:P3D
CALSCALE:GREGORIAN
BEGIN:VEVENT
DTSTART:20120906T230000Z
DTEND:20120907T020000Z
X-MICROSOFT-CDO-ALLDAYEVENT:FALSE
SUMMARY:Fashion's Night Out
DESCRIPTION:Fashion's Night Out\n\nThursday\, September 6\n\n6:00 pm - 9:00 pm\, Center Court\n\nBring your friends and enjoy a fun night out on Thursday\, September 6 to celebrate Fashion's Night Out from 6 - 9 pm!  Score free samples\, see demonstrations of the latest trends from your favorite stores\, and take advantage of shopping incentives!\n\n\n\nStop by Center Court to pick up your official Event Guide and a list of participating retailers!  Visit 5 or more stores and redeem your VIP Pass for a Fashion's Night Out swag bag filled with samples\, coupons\, and more! Complimentary hors d' oeuvres and beverages will also be served while guests enjoy a mix of upbeat music.  Plus\, register to win exclusive Fashion's Night Out merchandise!\n\n\n\nIt wouldn't be a fashion event without a step and repeat photo opportunity! Get your picture taken with your friends in front of North East Mall Fashion's Night Out backdrop and capture the memory for a lifetime!\n\n\n\nHope to see you there!
X-ALT-DESC;FMTTYPE=text/html:Fashion&#39\;s Night Out<br />\nThursday\, September 6<br />\n6:00 pm - 9:00 pm\, Center Court<br />\nBring your friends and enjoy a fun night out on Thursday\, September 6 to celebrate Fashion&#39\;s Night Out from 6 - 9 pm!&nbsp\; Score free samples\, see demonstrations of the latest trends from your favorite stores\, and take advantage of shopping incentives!<br />\n<br />\nStop by Center Court to pick up your official Event Guide and a list of participating retailers!&nbsp\; Visit 5 or more stores and redeem your VIP Pass for a Fashion&#39\;s Night Out swag bag filled with samples\, coupons\, and more! Complimentary hors d&#39\; oeuvres and beverages will also be served while guests enjoy a mix of upbeat music.&nbsp\; Plus\, register to win exclusive Fashion&#39\;s Night Out merchandise!<br />\n<br />\nIt wouldn&#39\;t be a fashion event without a step and repeat photo opportunity! Get your picture taken with your friends in front of North East Mall Fashion&#39\;s Night Out backdrop and capture the memory for a lifetime!<br />\n<br />\nHope to see you there!<br />\n<br />\n
LOCATION:North East Mall
UID:e.642.5071
SEQUENCE:3
DTSTAMP:20260423T123032Z
URL:https://business.colleyvillechamber.org/events/details/fashion-s-night-out-09-06-2012-5071
END:VEVENT

END:VCALENDAR
