BEGIN:VCALENDAR
VERSION:2.0
PRODID:-//ChamberMaster//Event Calendar 2.0//EN
METHOD:PUBLISH
X-PUBLISHED-TTL:P3D
REFRESH-INTERVAL:P3D
CALSCALE:GREGORIAN
BEGIN:VEVENT
DTSTART:20240201T173000Z
DTEND:20240201T190000Z
X-MICROSOFT-CDO-ALLDAYEVENT:FALSE
SUMMARY:February Monthly Luncheon - STATE OF THE CITY
DESCRIPTION:***Our Luncheon is SOLD OUT***\n\nEncore Presentation at 7pm\n\n\n\nOur February Monthly Luncheon - STATE OF THE CITY\n\nPresented by MAYOR BOBBY LINDAMOOD
X-ALT-DESC;FMTTYPE=text/html:<p><br />\n<span style="font-size:16px\;"><span style="font-family:verdana\;"><strong><span style="text-align: center\;">***Our Luncheon is SOLD OUT***<br />\nEncore Presentation at 7pm<br />\n<br />\nOur February Monthly Luncheon -&nbsp\;</span>STATE OF THE CITY</strong></span></span><br />\n<span style="font-family:verdana\;"><strong><span style="font-size:14px\;"><span class="OYPEnA text-decoration-none text-strikethrough-none" style="color: rgb(59\, 73\, 141)\;">Presented by&nbsp\;</span></span><span class="OYPEnA text-decoration-none text-strikethrough-none" style="color: rgb(59\, 73\, 141)\;">MAYOR BOBBY LINDAMOOD</span></strong><span style="font-size:16px\;"><strong><span style="text-align: center\;"><strong><span style="font-size:14px\;">&nbsp\;&nbsp\;</span></strong></span></strong></span></span><br />\n&nbsp\;</p>\n
LOCATION:Colleyville Center - 5301 Riverwalk Dr\, Colleyville\, TX 76034
UID:e.642.29341
SEQUENCE:3
DTSTAMP:20260423T140637Z
URL:https://business.colleyvillechamber.org/events/details/february-monthly-luncheon-state-of-the-city-02-01-2024-29341
END:VEVENT

END:VCALENDAR
