BEGIN:VCALENDAR
VERSION:2.0
PRODID:-//ChamberMaster//Event Calendar 2.0//EN
METHOD:PUBLISH
X-PUBLISHED-TTL:P3D
REFRESH-INTERVAL:P3D
CALSCALE:GREGORIAN
BEGIN:VEVENT
DTSTART:20150305T180000Z
DTEND:20150305T190000Z
X-MICROSOFT-CDO-ALLDAYEVENT:FALSE
SUMMARY:FREE Event-Digging Deeper\; Alternatives to Traditional Anxiety and Depression Treatments
DESCRIPTION:Please join us we continue to 'dig deeper' into health and wellness.  Discover natural alternatives to traditional anxiety and depression treatments to help you find peace and balance.
X-ALT-DESC;FMTTYPE=text/html:<span style="font-size: 26px\;"><span style="font-family: verdana\;">Please join us we continue to &#39\;dig deeper&#39\; into health and wellness.&nbsp\; Discover natural alternatives to traditional anxiety and depression treatments to help you find peace and balance.&nbsp\; </span></span>
LOCATION:Kotsanis Institute 2260 Pool Rd. Grapevine\, TX 76051
UID:e.642.7524
SEQUENCE:3
DTSTAMP:20260421T112924Z
URL:https://business.colleyvillechamber.org/events/details/free-event-digging-deeper-alternatives-to-traditional-anxiety-and-depression-treatments-03-05-2015-7524
END:VEVENT

END:VCALENDAR
