BEGIN:VCALENDAR
VERSION:2.0
PRODID:-//ChamberMaster//Event Calendar 2.0//EN
METHOD:PUBLISH
X-PUBLISHED-TTL:P3D
REFRESH-INTERVAL:P3D
CALSCALE:GREGORIAN
BEGIN:VEVENT
DTSTART:20150402T170000Z
DTEND:20150402T180000Z
X-MICROSOFT-CDO-ALLDAYEVENT:FALSE
SUMMARY:FREE Event-Digging Deeper: Autism 101
DESCRIPTION:Join us as we 'dig deeper' into Autism and learn more about different biomedical treatments that are offered at the Kotsanis Institute.  We have ways of treating Autism that gets to the root of the issue instead of masking the symptoms.
X-ALT-DESC;FMTTYPE=text/html:<span style="font-size: 20px\;">Join us as we &lsquo\;dig deeper&rsquo\; into Autism and learn more about different biomedical treatments that are offered at the Kotsanis Institute.&nbsp\; We have ways of treating Autism that gets to the root of the issue instead of masking the symptoms. </span>
LOCATION:2260 Pool Rd. Grapevine\, TX 76051
UID:e.642.7548
SEQUENCE:3
DTSTAMP:20260421T083727Z
URL:https://business.colleyvillechamber.org/events/details/free-event-digging-deeper-autism-101-04-02-2015-7548
END:VEVENT

END:VCALENDAR
