BEGIN:VCALENDAR
VERSION:2.0
PRODID:-//ChamberMaster//Event Calendar 2.0//EN
METHOD:PUBLISH
X-PUBLISHED-TTL:P3D
REFRESH-INTERVAL:P3D
CALSCALE:GREGORIAN
BEGIN:VEVENT
DTSTART:20150205T180000Z
DTEND:20150205T190000Z
X-MICROSOFT-CDO-ALLDAYEVENT:FALSE
SUMMARY:Free Event-Digging Deeper Weight Loss Add-Ons
DESCRIPTION:Please join us as we "dig deeper" into weight loss.  If you're not seeing results or have hit a plateau in your weight loss journey\, we have additional therapies that can jump start your metabolism and get you on the path of losing!  As always\, this event is free and a gluten-free lunch will be provided.
X-ALT-DESC;FMTTYPE=text/html:Please join us as we &quot\;dig deeper&quot\; into weight loss.&nbsp\; If you&#39\;re not seeing results or have hit a plateau in your weight loss journey\, we have additional therapies that can jump start your metabolism and get you on the path of losing!&nbsp\; As always\, this event is free and a gluten-free lunch will be provided.
LOCATION:Kotsanis Institute 2260 Pool Road Grapevine\, TX 76051
UID:e.642.7509
SEQUENCE:3
DTSTAMP:20260421T124329Z
URL:https://business.colleyvillechamber.org/events/details/free-event-digging-deeper-weight-loss-add-ons-02-05-2015-7509
END:VEVENT

END:VCALENDAR
