BEGIN:VCALENDAR
VERSION:2.0
PRODID:-//ChamberMaster//Event Calendar 2.0//EN
METHOD:PUBLISH
X-PUBLISHED-TTL:P3D
REFRESH-INTERVAL:P3D
CALSCALE:GREGORIAN
BEGIN:VEVENT
DTSTART:20150108T180000Z
DTEND:20150108T190000Z
X-MICROSOFT-CDO-ALLDAYEVENT:FALSE
SUMMARY:Free Event-Digging Deeper: Weight Loss Edition
DESCRIPTION:Please join us as we discuss the benefits of using your own DNA to determine the most effective diet plan\, personalized just for you.  In addition to our genetic testing\, we also have the perfect detox plan to help jump start your weight loss journey. \n\n\n\nAs always\, a gluten-free lunch will be provided.\n\n\n\nSeating is limited.  Please RSVP at 817-591-0260
X-ALT-DESC;FMTTYPE=text/html:Please join us as we discuss the benefits of using your own DNA to determine the most effective diet plan\, personalized just for you.&nbsp\; In addition to our genetic testing\, we also have the perfect detox plan to help jump start your weight loss journey.&nbsp\;<br />\n<br />\nAs always\, a gluten-free lunch will be provided.<br />\n<br />\nSeating is limited.&nbsp\; Please RSVP at 817-591-0260
LOCATION:Kotsanis Institute 2260 Pool Rd. Grapevine\, TX 76051
UID:e.642.7467
SEQUENCE:3
DTSTAMP:20260421T141331Z
URL:https://business.colleyvillechamber.org/events/details/free-event-digging-deeper-weight-loss-edition-01-08-2015-7467
END:VEVENT

END:VCALENDAR
