BEGIN:VCALENDAR
VERSION:2.0
PRODID:-//ChamberMaster//Event Calendar 2.0//EN
METHOD:PUBLISH
X-PUBLISHED-TTL:P3D
REFRESH-INTERVAL:P3D
CALSCALE:GREGORIAN
BEGIN:VEVENT
DTSTART:20150211T000000Z
DTEND:20150211T020000Z
X-MICROSOFT-CDO-ALLDAYEVENT:FALSE
SUMMARY:Free Event-DIY Spa Night
DESCRIPTION:Have you been curious to learn more about essential oils but didn't know where to start?  Discover the many benefits and uses of essential oils in a fun environment\, with all of your friends!  Join us as we show you how to make fun and easy bath products for your next night in.  Perfect for your Valentine!\n\n\n\nFood | Wine | Giveaways
X-ALT-DESC;FMTTYPE=text/html:Have you been curious to learn more about essential oils but didn&#39\;t know where to start?&nbsp\; Discover the many benefits and uses of essential oils in a fun environment\, with all of your friends!&nbsp\; Join us as we show you how to make fun and easy bath products for your next night in.&nbsp\; Perfect for your Valentine!<br />\n<br />\nFood | Wine | Giveaways
LOCATION:Kotsanis Institute 2260 Pool Rd. Grapevine\, TX 76051
UID:e.642.7510
SEQUENCE:3
DTSTAMP:20260421T140103Z
URL:https://business.colleyvillechamber.org/events/details/free-event-diy-spa-night-02-10-2015-7510
END:VEVENT

END:VCALENDAR
