BEGIN:VCALENDAR
VERSION:2.0
PRODID:-//ChamberMaster//Event Calendar 2.0//EN
METHOD:PUBLISH
X-PUBLISHED-TTL:P3D
REFRESH-INTERVAL:P3D
CALSCALE:GREGORIAN
BEGIN:VEVENT
DTSTART:20150123T230000Z
DTEND:20150124T020000Z
X-MICROSOFT-CDO-ALLDAYEVENT:FALSE
SUMMARY:Friday Night Flights - Bear Creek Spirits & Wine
DESCRIPTION:7101 Colleyville Blvd.\n\nColleyville\, TX  76034
X-ALT-DESC;FMTTYPE=text/html:7101 Colleyville Blvd.<br />\nColleyville\, TX&nbsp\; 76034\n<table align="center" border="0" cellpadding="0" cellspacing="0" style="width: 100%\;" width="100%">\n	<tbody>\n		<tr>\n			<td style="padding: 0in\; border: rgb(0\, 0\, 0)\; width: 100%\; vertical-align: top\;">\n			<div style="clear: both\;">&nbsp\;</div>\n			</td>\n		</tr>\n	</tbody>\n</table>\n\n<div style="clear: both\;">&nbsp\;</div>\n
LOCATION:
UID:e.642.7516
SEQUENCE:3
DTSTAMP:20260421T153535Z
URL:https://business.colleyvillechamber.org/events/details/friday-night-flights-bear-creek-spirits-wine-01-23-2015-7516
END:VEVENT

END:VCALENDAR
