BEGIN:VCALENDAR
VERSION:2.0
PRODID:-//ChamberMaster//Event Calendar 2.0//EN
METHOD:PUBLISH
X-PUBLISHED-TTL:P3D
REFRESH-INTERVAL:P3D
CALSCALE:GREGORIAN
BEGIN:VEVENT
DTSTART:20150313T220000Z
DTEND:20150314T010000Z
X-MICROSOFT-CDO-ALLDAYEVENT:FALSE
SUMMARY:FRIDAY NIGHT FLIGHTS "Blind Date"
DESCRIPTION:Bear Creek Spirits & Wine\n\nFriday Night Flites\n\n"Blind Date"\n\nFriday 3-13-2015\n\n5:00pm - 8:00pm
X-ALT-DESC;FMTTYPE=text/html:Bear Creek Spirits &amp\; Wine<br />\nFriday Night Flites<br />\n&quot\;Blind Date&quot\;<br />\nFriday 3-13-2015<br />\n5:00pm - 8:00pm
LOCATION:Bear Creek Spirits & Wine 7101 Colleyville Blvd. Colleyville TX 76034
UID:e.642.7551
SEQUENCE:3
DTSTAMP:20260421T123614Z
URL:https://business.colleyvillechamber.org/events/details/friday-night-flights-blind-date-03-13-2015-7551
END:VEVENT

END:VCALENDAR
