BEGIN:VCALENDAR
VERSION:2.0
PRODID:-//ChamberMaster//Event Calendar 2.0//EN
METHOD:PUBLISH
X-PUBLISHED-TTL:P3D
REFRESH-INTERVAL:P3D
CALSCALE:GREGORIAN
BEGIN:VEVENT
DTSTART;VALUE=DATE:20150206
DTEND;VALUE=DATE:20150207
TRANSP:TRANSPARENT
X-MICROSOFT-CDO-ALLDAYEVENT:TRUE
SUMMARY:Friday Night Flights "Language of Love"
DESCRIPTION:
X-ALT-DESC;FMTTYPE=text/html:
LOCATION:Bear Creek Spirits & Wine 7101 Colleyville Blvd. Colleyville TX 76034
UID:e.642.7522
SEQUENCE:3
DTSTAMP:20260421T140818Z
URL:https://business.colleyvillechamber.org/events/details/friday-night-flights-language-of-love-02-06-2015-7522
END:VEVENT

END:VCALENDAR
