BEGIN:VCALENDAR
VERSION:2.0
PRODID:-//ChamberMaster//Event Calendar 2.0//EN
METHOD:PUBLISH
X-PUBLISHED-TTL:P3D
REFRESH-INTERVAL:P3D
CALSCALE:GREGORIAN
BEGIN:VEVENT
DTSTART:20150130T230000Z
DTEND:20150131T020000Z
X-MICROSOFT-CDO-ALLDAYEVENT:FALSE
SUMMARY:Friday Night Flites
DESCRIPTION:
X-ALT-DESC;FMTTYPE=text/html:
LOCATION:Bear Creek Spirits & Wine 7101 Colleyville Blvd. Colleyville\, TX 76034
UID:e.642.7520
SEQUENCE:3
DTSTAMP:20260421T141300Z
URL:https://business.colleyvillechamber.org/events/details/friday-night-flites-01-30-2015-7520
END:VEVENT

END:VCALENDAR
