BEGIN:VCALENDAR
VERSION:2.0
PRODID:-//ChamberMaster//Event Calendar 2.0//EN
METHOD:PUBLISH
X-PUBLISHED-TTL:P3D
REFRESH-INTERVAL:P3D
CALSCALE:GREGORIAN
BEGIN:VEVENT
DTSTART:20150109T230000Z
DTEND:20150110T020000Z
X-MICROSOFT-CDO-ALLDAYEVENT:FALSE
SUMMARY:Friday Night Flites - Bear Creek Spirits & Wine
DESCRIPTION:
X-ALT-DESC;FMTTYPE=text/html:
LOCATION:
UID:e.642.7499
SEQUENCE:3
DTSTAMP:20260421T153535Z
URL:https://business.colleyvillechamber.org/events/details/friday-night-flites-bear-creek-spirits-wine-01-09-2015-7499
END:VEVENT

END:VCALENDAR
