BEGIN:VCALENDAR
VERSION:2.0
PRODID:-//ChamberMaster//Event Calendar 2.0//EN
METHOD:PUBLISH
X-PUBLISHED-TTL:P3D
REFRESH-INTERVAL:P3D
CALSCALE:GREGORIAN
BEGIN:VEVENT
DTSTART:20150227T230000Z
DTEND:20150228T020000Z
X-MICROSOFT-CDO-ALLDAYEVENT:FALSE
SUMMARY:Friday Night Flites "Blind Date Wine Tasting"
DESCRIPTION:Bear Creek Spirits & Wine\n\nFriday Night Flites\n\n5:00pm - 8:00pm\n\n" Blind Date Wine Tasting"
X-ALT-DESC;FMTTYPE=text/html:Bear Creek Spirits &amp\; Wine<br />\nFriday Night Flites<br />\n5:00pm - 8:00pm<br />\n&quot\; Blind Date Wine Tasting&quot\;
LOCATION:Bear Creek Spirits & Wine 7101 Colleyville Blvd. Colleyville\, TX 76034
UID:e.642.7536
SEQUENCE:3
DTSTAMP:20260421T123702Z
URL:https://business.colleyvillechamber.org/events/details/friday-night-flites-blind-date-wine-tasting-02-27-2015-7536
END:VEVENT

END:VCALENDAR
