BEGIN:VCALENDAR
VERSION:2.0
PRODID:-//ChamberMaster//Event Calendar 2.0//EN
METHOD:PUBLISH
X-PUBLISHED-TTL:P3D
REFRESH-INTERVAL:P3D
CALSCALE:GREGORIAN
BEGIN:VEVENT
DTSTART:20150327T220000Z
DTEND:20150328T010000Z
X-MICROSOFT-CDO-ALLDAYEVENT:FALSE
SUMMARY:FRIDAY NIGHT FLITES "Dona Paula Estate - Argentina"
DESCRIPTION:Bear Creek Spirits & Wine\n\nFriday Night Flites\n\n5:00pm - 8:00pm\n\n"Dona Paula Estate - Argentina"
X-ALT-DESC;FMTTYPE=text/html:Bear Creek Spirits &amp\; Wine<br />\nFriday Night Flites<br />\n5:00pm - 8:00pm<br />\n&quot\;Dona Paula Estate - Argentina&quot\;<br />\n&nbsp\;
LOCATION:Bear Creek Spirits & Wine 7101 Colleyville Blvd. Colleyville TX 76034
UID:e.642.7566
SEQUENCE:3
DTSTAMP:20260421T112827Z
URL:https://business.colleyvillechamber.org/events/details/friday-night-flites-dona-paula-estate-argentina-03-27-2015-7566
END:VEVENT

END:VCALENDAR
