BEGIN:VCALENDAR
VERSION:2.0
PRODID:-//ChamberMaster//Event Calendar 2.0//EN
METHOD:PUBLISH
X-PUBLISHED-TTL:P3D
REFRESH-INTERVAL:P3D
CALSCALE:GREGORIAN
BEGIN:VEVENT
DTSTART:20150306T230000Z
DTEND:20150307T020000Z
X-MICROSOFT-CDO-ALLDAYEVENT:FALSE
SUMMARY:Friday Night Flites "Featuring Rombauer Vineyards"
DESCRIPTION:Bear Creek Spirits & Wine\n\nFriday Night Flites\n\n3-6-2015\n\n5:00pm - 8:00pm\n\n"Featuring Rombauer Vineyards"
X-ALT-DESC;FMTTYPE=text/html:Bear Creek Spirits &amp\; Wine<br />\nFriday Night Flites<br />\n3-6-2015<br />\n5:00pm - 8:00pm<br />\n&quot\;Featuring Rombauer Vineyards&quot\;
LOCATION:Bear Creek Spirits & Wine 7101 Colleyville Blvd. Colleyville TX 76034
UID:e.642.7542
SEQUENCE:3
DTSTAMP:20260421T113037Z
URL:https://business.colleyvillechamber.org/events/details/friday-night-flites-featuring-rombauer-vineyards-03-06-2015-7542
END:VEVENT

END:VCALENDAR
