BEGIN:VCALENDAR
VERSION:2.0
PRODID:-//ChamberMaster//Event Calendar 2.0//EN
METHOD:PUBLISH
X-PUBLISHED-TTL:P3D
REFRESH-INTERVAL:P3D
CALSCALE:GREGORIAN
BEGIN:VEVENT
DTSTART:20150213T230000Z
DTEND:20150214T020000Z
X-MICROSOFT-CDO-ALLDAYEVENT:FALSE
SUMMARY:Friday Night Flites "Mardi Gras Night"
DESCRIPTION:Bear Creek Spirits & Wine\n\nFriday Night Flites\n\n"Mardi Gras Night"\n\nFebruary 13\, 2015  5:00pm - 8:00pm
X-ALT-DESC;FMTTYPE=text/html:Bear Creek Spirits &amp\; Wine<br />\nFriday Night Flites<br />\n&quot\;Mardi Gras Night&quot\;<br />\nFebruary 13\, 2015&nbsp\; 5:00pm - 8:00pm
LOCATION:Bear Creek Spirits & Wine 7101 Colleyville Blvd. Colleyville\, TX 76034
UID:e.642.7528
SEQUENCE:3
DTSTAMP:20260421T140553Z
URL:https://business.colleyvillechamber.org/events/details/friday-night-flites-mardi-gras-night-02-13-2015-7528
END:VEVENT

END:VCALENDAR
