BEGIN:VCALENDAR
VERSION:2.0
PRODID:-//ChamberMaster//Event Calendar 2.0//EN
METHOD:PUBLISH
X-PUBLISHED-TTL:P3D
REFRESH-INTERVAL:P3D
CALSCALE:GREGORIAN
BEGIN:VEVENT
DTSTART:20150501T220000Z
DTEND:20150502T010000Z
X-MICROSOFT-CDO-ALLDAYEVENT:FALSE
SUMMARY:FRIDAY NIGHT FLITES "MEET NICK FRY FROM BALLETTO WINES"
DESCRIPTION:BEAR CREEK SPIRITS & WINE\n\nFRIDAY NIGHT FLITES\n\n"MEET NICK FRY FROM BALLETO WINES"\n\n5:00pm - 8:00pm\n\n"Balletto Wines"
X-ALT-DESC;FMTTYPE=text/html:BEAR CREEK SPIRITS &amp\; WINE<br />\nFRIDAY NIGHT FLITES<br />\n&quot\;MEET NICK FRY FROM BALLETO WINES&quot\;<br />\n5:00pm - 8:00pm<br />\n&quot\;Balletto Wines&quot\;
LOCATION:7107 Colleyville Blvd. Colleyville TX 76034
UID:e.642.7988
SEQUENCE:3
DTSTAMP:20260421T090521Z
URL:https://business.colleyvillechamber.org/events/details/friday-night-flites-meet-nick-fry-from-balletto-wines-05-01-2015-7988
END:VEVENT

END:VCALENDAR
