BEGIN:VCALENDAR
VERSION:2.0
PRODID:-//ChamberMaster//Event Calendar 2.0//EN
METHOD:PUBLISH
X-PUBLISHED-TTL:P3D
REFRESH-INTERVAL:P3D
CALSCALE:GREGORIAN
BEGIN:VEVENT
DTSTART:20150320T220000Z
DTEND:20150321T010000Z
X-MICROSOFT-CDO-ALLDAYEVENT:FALSE
SUMMARY:FRIDAY NIGHT FLITES "Zany Zinfandels"
DESCRIPTION:Bear Creek Spirits & Wine\n\nFriday Night Flites\n\nMarch 20\, 2015\n\n5:00pm - 8:00pm\n\n"Zany Zinfandels"
X-ALT-DESC;FMTTYPE=text/html:Bear Creek Spirits &amp\; Wine<br />\nFriday Night Flites<br />\nMarch 20\, 2015<br />\n5:00pm - 8:00pm<br />\n&quot\;Zany Zinfandels&quot\;
LOCATION:Bear Creek Spirits & Wine 7101 Colleyville Blvd. Colleyville\, TX 76034
UID:e.642.7562
SEQUENCE:3
DTSTAMP:20260421T123902Z
URL:https://business.colleyvillechamber.org/events/details/friday-night-flites-zany-zinfandels-03-20-2015-7562
END:VEVENT

END:VCALENDAR
