BEGIN:VCALENDAR
VERSION:2.0
PRODID:-//ChamberMaster//Event Calendar 2.0//EN
METHOD:PUBLISH
X-PUBLISHED-TTL:P3D
REFRESH-INTERVAL:P3D
CALSCALE:GREGORIAN
BEGIN:VEVENT
DTSTART:20130801T213000Z
DTEND:20130801T233000Z
X-MICROSOFT-CDO-ALLDAYEVENT:FALSE
SUMMARY:Frost Bank Business Exchange
DESCRIPTION:Networking opportunity!  Business Exchange happening at the Frost Bank in Southlake\, from 4:30 - 6:30 p.m.\n\n641 Southlake Blvd.\n\nSouthlake\, TX  76092\n\nRSVP:  817-420-5622.
X-ALT-DESC;FMTTYPE=text/html:Networking opportunity!&nbsp\; Business Exchange happening at the Frost Bank in Southlake\, from 4:30 - 6:30 p.m.<br />\n641 Southlake Blvd.<br />\nSouthlake\, TX&nbsp\; 76092<br />\nRSVP: &nbsp\;817-420-5622.
LOCATION:
UID:e.642.5709
SEQUENCE:3
DTSTAMP:20260422T193329Z
URL:https://business.colleyvillechamber.org/events/details/frost-bank-business-exchange-08-01-2013-5709
END:VEVENT

END:VCALENDAR
