BEGIN:VCALENDAR
VERSION:2.0
PRODID:-//ChamberMaster//Event Calendar 2.0//EN
METHOD:PUBLISH
X-PUBLISHED-TTL:P3D
REFRESH-INTERVAL:P3D
CALSCALE:GREGORIAN
BEGIN:VEVENT
DTSTART:20150528T220000Z
DTEND:20150529T000000Z
X-MICROSOFT-CDO-ALLDAYEVENT:FALSE
SUMMARY:Frost Bank - Davis Grand Re-Opening Event
DESCRIPTION:Please help us honor the good work of the Community Enrichment Center by joining us for a celebration at our redesigned Davis Financial Center.\n\n\n\nHors d'oeuvres will be served.\n\n\n\nPlease RSVP to tiffany.mcdowell@frostbank.com
X-ALT-DESC;FMTTYPE=text/html:Please help us honor the good work of the Community Enrichment Center by joining us for a celebration at our redesigned Davis Financial Center.<br />\n<br />\nHors d&#39\;oeuvres will be served.<br />\n<br />\nPlease RSVP to <a href="mailto:tiffany.mcdowell@frostbank.com">tiffany.mcdowell@frostbank.com</a>
LOCATION:Frost Bank - Davis Financial Center 8501 Davis Blvd North Richland Hills\, TX 76182
UID:e.642.8015
SEQUENCE:3
DTSTAMP:20260421T084507Z
URL:https://business.colleyvillechamber.org/events/details/frost-bank-davis-grand-re-opening-event-05-28-2015-8015
END:VEVENT

END:VCALENDAR
