BEGIN:VCALENDAR
VERSION:2.0
PRODID:-//ChamberMaster//Event Calendar 2.0//EN
METHOD:PUBLISH
X-PUBLISHED-TTL:P3D
REFRESH-INTERVAL:P3D
CALSCALE:GREGORIAN
BEGIN:VEVENT
DTSTART:20250417T150000Z
DTEND:20250417T180000Z
X-MICROSOFT-CDO-ALLDAYEVENT:FALSE
SUMMARY:Frost Shred It
DESCRIPTION:Join us for complimentary shredding services and sweet treats at our Colleyville Financial Center. We encourage you to bring in your documents\, start shredding and protect your security. Only paper products will be accepted\, with a limit of 10 boxes/bags per visitor. This event is free and open to the public. We hope to see you there! For shredding guidelines\, please visit: http://bit.ly/shredit-frost
X-ALT-DESC;FMTTYPE=text/html:Join us for complimentary shredding services and sweet treats at our Colleyville Financial Center. We encourage you to bring in your documents\, start shredding and protect your security. Only paper products will be accepted\, with a limit of 10 boxes/bags per visitor. This event is free and open to the public. We hope to see you there! For shredding guidelines\, please visit: http://bit.ly/shredit-frost
LOCATION:Frost Bank Colleyville Financial Center 4718 Colleyville Blvd Suite 100\, Colleyville\, TX 76034
UID:e.642.31578
SEQUENCE:3
DTSTAMP:20260421T193803Z
URL:https://business.colleyvillechamber.org/events/details/frost-shred-it-31578
END:VEVENT

END:VCALENDAR
