BEGIN:VCALENDAR
VERSION:2.0
PRODID:-//ChamberMaster//Event Calendar 2.0//EN
METHOD:PUBLISH
X-PUBLISHED-TTL:P3D
REFRESH-INTERVAL:P3D
CALSCALE:GREGORIAN
BEGIN:VEVENT
DTSTART:20141028T123000Z
DTEND:20141028T143000Z
X-MICROSOFT-CDO-ALLDAYEVENT:FALSE
SUMMARY:Frost Southlake Financial Center Reopening Barista and Breakfast
DESCRIPTION:Frost will celebrate the redesign of its full-service financial center in Southlake\, with two days of opening events. Guests can enjoy pastries and coffee made to order by Cappuccino Express while listening to live music by Byron Haynie.
X-ALT-DESC;FMTTYPE=text/html:Frost will celebrate the redesign of its full-service financial center in Southlake\, with two days of opening events. Guests can enjoy pastries and coffee made to order by Cappuccino Express while listening to live music by Byron Haynie.
LOCATION:Frost Bank Southlake Financial Center
UID:e.642.7237
SEQUENCE:3
DTSTAMP:20260421T190330Z
URL:https://business.colleyvillechamber.org/events/details/frost-southlake-financial-center-reopening-barista-and-breakfast-10-28-2014-7237
END:VEVENT

END:VCALENDAR
