BEGIN:VCALENDAR
VERSION:2.0
PRODID:-//ChamberMaster//Event Calendar 2.0//EN
METHOD:PUBLISH
X-PUBLISHED-TTL:P3D
REFRESH-INTERVAL:P3D
CALSCALE:GREGORIAN
BEGIN:VEVENT
DTSTART:20141028T200000Z
DTEND:20141028T230000Z
X-MICROSOFT-CDO-ALLDAYEVENT:FALSE
SUMMARY:Frost Southlake Financial Center Reopening Halloween Family Fun Day
DESCRIPTION:Frost will celebrate the redesign of its full-service financial center in Southlake\, with two days of opening events. Guests and their pets are encouraged to come dressed in costume to Frost's Halloween-themed Family Fun Day. Kids will enjoy pumpkin decorating while they tap their toes to the guest D.J. BBQ will be served from BBQ Station and Halloween cookies from Desserts by Design. Guests can leave their cameras at home as Frost will offer complimentary Fall-themed photos for all the little ghosts and goblins that haunt the event.
X-ALT-DESC;FMTTYPE=text/html:Frost will celebrate the redesign of its full-service financial center in Southlake\, with two days of opening events. Guests and their pets are encouraged to come dressed in costume to Frost&#39\;s Halloween-themed Family Fun Day. Kids will enjoy pumpkin decorating while they tap their toes to the guest D.J. BBQ will be served from BBQ Station and Halloween cookies from Desserts by Design. Guests can leave their cameras at home as Frost will offer complimentary Fall-themed photos for all the little ghosts and goblins that haunt the event.
LOCATION:The Southlake Financial Center 641 E Southlake Southlake\, Texas 76092
UID:e.642.7238
SEQUENCE:3
DTSTAMP:20260421T190329Z
URL:https://business.colleyvillechamber.org/events/details/frost-southlake-financial-center-reopening-halloween-family-fun-day-10-28-2014-7238
END:VEVENT

END:VCALENDAR
