BEGIN:VCALENDAR
VERSION:2.0
PRODID:-//ChamberMaster//Event Calendar 2.0//EN
METHOD:PUBLISH
X-PUBLISHED-TTL:P3D
REFRESH-INTERVAL:P3D
CALSCALE:GREGORIAN
BEGIN:VEVENT
DTSTART:20141029T123000Z
DTEND:20141029T143000Z
X-MICROSOFT-CDO-ALLDAYEVENT:FALSE
SUMMARY:Frost Southlake Financial Center Reopening Juice Bar and Breakfast
DESCRIPTION:Frost will celebrate the redesign of its full-service financial center in Southlake\, with two days of opening events. Guests can enjoy smoothies\, juice and pastries by Nektar Juice Bar while listening to live music by Byron Haynie.
X-ALT-DESC;FMTTYPE=text/html:Frost will celebrate the redesign of its full-service financial center in Southlake\, with two days of opening events. Guests can enjoy smoothies\, juice and pastries by Nektar Juice Bar while listening to live music by Byron Haynie.
LOCATION:Frost Bank Southlake Financial Center 641 E Southlake Southlake\, Texas 76092
UID:e.642.7239
SEQUENCE:3
DTSTAMP:20260421T190308Z
URL:https://business.colleyvillechamber.org/events/details/frost-southlake-financial-center-reopening-juice-bar-and-breakfast-10-29-2014-7239
END:VEVENT

END:VCALENDAR
