BEGIN:VCALENDAR
VERSION:2.0
PRODID:-//ChamberMaster//Event Calendar 2.0//EN
METHOD:PUBLISH
X-PUBLISHED-TTL:P3D
REFRESH-INTERVAL:P3D
CALSCALE:GREGORIAN
BEGIN:VEVENT
DTSTART:20130408T143000Z
DTEND:20130408T220000Z
X-MICROSOFT-CDO-ALLDAYEVENT:FALSE
SUMMARY:GCISD Education Foundation's Annual Golf Tournament
DESCRIPTION:Timarron Country Club\, 9:30 a.m. registration and activities\, 12 noon shotgun start\, teams sold out\, but hole/tee sign sponsors available and volunteers needed
X-ALT-DESC;FMTTYPE=text/html:<span style="font-size: 12pt\;"><span style="font-family: cambria\,serif\;">Timarron Country Club\, 9:30 a.m. registration and activities\, </span></span><span style="font-size: 12pt\;"><span style="font-family: cambria\,serif\;">12 noon shotgun start\, teams sold out\, but hole/tee sign sponsors </span></span><span style="font-size: 12pt\;"><span style="font-family: cambria\,serif\;">available and volunteers needed</span></span><br />\n
LOCATION:
UID:e.642.5615
SEQUENCE:3
DTSTAMP:20260423T001324Z
URL:https://business.colleyvillechamber.org/events/details/gcisd-education-foundation-s-annual-golf-tournament-04-08-2013-5615
END:VEVENT

END:VCALENDAR
