BEGIN:VCALENDAR
VERSION:2.0
PRODID:-//ChamberMaster//Event Calendar 2.0//EN
METHOD:PUBLISH
X-PUBLISHED-TTL:P3D
REFRESH-INTERVAL:P3D
CALSCALE:GREGORIAN
BEGIN:VEVENT
DTSTART:20140812T163000Z
DTEND:20140812T180000Z
X-MICROSOFT-CDO-ALLDAYEVENT:FALSE
SUMMARY:GCISD Educators Luncheon
DESCRIPTION:Education Foundation Grapevine-Colleyville in partnership with the Colleyville Area Chamber\, Grapevine Chamber and Women's Division of the Grapevine Chamber hosts the 2014 Texas Star Welcome GCISD Educators Luncheon.\n\nSponsorships and tickets now available!  Door prizes also needed for the educators!
X-ALT-DESC;FMTTYPE=text/html:Education Foundation Grapevine-Colleyville in partnership with the Colleyville Area Chamber\,&nbsp\;Grapevine Chamber and Women&#39\;s Division of the Grapevine Chamber hosts the 2014 Texas Star Welcome GCISD Educators Luncheon.<br />\nSponsorships and tickets now available!&nbsp\; Door prizes also needed for the educators!
LOCATION:Grapevine Convention Center
UID:e.642.6918
SEQUENCE:3
DTSTAMP:20260421T235353Z
URL:https://business.colleyvillechamber.org/events/details/gcisd-educators-luncheon-08-12-2014-6918
END:VEVENT

END:VCALENDAR
