BEGIN:VCALENDAR
VERSION:2.0
PRODID:-//ChamberMaster//Event Calendar 2.0//EN
METHOD:PUBLISH
X-PUBLISHED-TTL:P3D
REFRESH-INTERVAL:P3D
CALSCALE:GREGORIAN
BEGIN:VEVENT
DTSTART;VALUE=DATE:20121128
DTEND;VALUE=DATE:20121202
TRANSP:TRANSPARENT
X-MICROSOFT-CDO-ALLDAYEVENT:TRUE
SUMMARY:Gingerbread Haus Competition
DESCRIPTION:Have fun and let your creativity flow.\n\n	Your Gingerbread Haus should be on a SOLID\, FIRM base and may be no larger than 24" by 24".  It must be stable and transportable to the display area at GermanDeli's Retail store.  May use pre-baked\, commercially available gingerbread and decoration elements\; however the creativity must be your own.  Creations that are entirely from scratch may score higher than those that relay on commercial gingerbread.  With the exception of the base and non-visual supports\, the gingerbread and its decorations must be edible.  At least 50% of each entry must be made of gingerbread.\n\n	Winners will be announced on Sunday\, December 2nd at 3pm.  The winner does not need to be present to win.  First place - $250 GermanDeli shopping spree\, Second place - $100 GermanDeli Shopping Spree\, Third place - $50 GermanDeli shopping spree
X-ALT-DESC;FMTTYPE=text/html:<p>\n	Have fun and let your creativity flow.<br />\n	Your Gingerbread Haus should be on a SOLID\, FIRM base and may be no larger than 24&quot\; by 24&quot\;.&nbsp\; It must be stable and transportable to the display area at GermanDeli&#39\;s Retail store.&nbsp\; May use pre-baked\, commercially available gingerbread and decoration elements\; however the creativity must be your own.&nbsp\; Creations that are entirely from scratch may score higher than those that relay on commercial gingerbread.&nbsp\; With the exception of the base and non-visual supports\, the gingerbread and its decorations must be edible.&nbsp\; At least 50% of each entry must be made of gingerbread.<br />\n	Winners will be announced on Sunday\, December 2nd at 3pm.&nbsp\; The winner does not need to be present to win.&nbsp\; First place - $250 GermanDeli shopping spree\, Second place - $100 GermanDeli Shopping Spree\, Third place - $50 GermanDeli shopping spree<br />\n	&nbsp\;</p>\n
LOCATION:5100 State Hwy 121 Colleyville\, Tx 76034
UID:e.642.5130
SEQUENCE:3
DTSTAMP:20260423T070204Z
URL:https://business.colleyvillechamber.org/events/details/gingerbread-haus-competition-11-28-2012-5130
END:VEVENT

END:VCALENDAR
