BEGIN:VCALENDAR
VERSION:2.0
PRODID:-//ChamberMaster//Event Calendar 2.0//EN
METHOD:PUBLISH
X-PUBLISHED-TTL:P3D
REFRESH-INTERVAL:P3D
CALSCALE:GREGORIAN
BEGIN:VEVENT
DTSTART:20121011T220000Z
DTEND:20121012T010000Z
X-MICROSOFT-CDO-ALLDAYEVENT:FALSE
SUMMARY:Girl's Night Out
DESCRIPTION:North East Mall will partner with Woolite\, Diet Coke and local restaurants and businesses and our retails to create\, Girls Night Out\, a night of food\, friends\, fashion and fun!\n\n\n\nWe will set the stage by inviting shoppers to gather their girlfriends for a night out! Come to North East Mall to relax\, unwind\, socialize\, shop\, be pampered and get reacquainted.\n\n\n\nParticipating sponsors and retailers will offer the following activities:\n\n\n	\n\n	- Mini Makeovers\n\n	- Product Demonstrations\n\n	- Massages\n\n	- Retailer Offers & Incentives\n\n	- Food & Beverage Sampling\n\n	- Professional DJ with the hottest music\n\n	- Door Prize Drawings every hour\n\n	- And More!\n\n	\n\n	Guests will also receive limited-edition garments and accessories\, pre-washed in Woolite\, from five notable designers   Dannijo\, Felix Rey\, LNA\, Laundry by Shelli Segal\, and Timo Weiland. Items have a retail value of $28 - $60. These limited-edition garments and accessories will be given away to the first 100 consumers attending Girl's Night Out\, while supplies last.
X-ALT-DESC;FMTTYPE=text/html:<span itemprop="description">North East Mall will partner with Woolite\, Diet Coke and local restaurants and businesses and our retails to create\, Girls Night Out\, a night of food\, friends\, fashion and fun!<br />\n<br />\nWe will set the stage by inviting shoppers to gather their girlfriends for a night out! Come to North East Mall to relax\, unwind\, socialize\, shop\, be pampered and get reacquainted.<br />\n<br />\nParticipating sponsors and retailers will offer the following activities:</span><br />\n<div class="text_exposed_show">\n	<br />\n	<span itemprop="description">- Mini Makeovers<br />\n	- Product Demonstrations<br />\n	- Massages<br />\n	- Retailer Offers &amp\; Incentives<br />\n	- Food &amp\; Beverage Sampling<br />\n	- Professional DJ with the hottest music<br />\n	- Door Prize Drawings every hour<br />\n	- And More!<br />\n	<br />\n	Guests will also receive limited-edition garments and accessories\, pre-washed in Woolite\, from five notable designers &ndash\; Dannijo\, Felix Rey\, LNA\, Laundry by Shelli Segal\, and Timo Weiland. Items have a retail value of $28 - $60. These limited-edition garments and accessories will be given away to the first 100 consumers attending Girl&rsquo\;s Night Out\, while supplies last. </span></div>\n
LOCATION:Center Court
UID:e.642.5109
SEQUENCE:3
DTSTAMP:20260423T105342Z
URL:https://business.colleyvillechamber.org/events/details/girl-s-night-out-10-11-2012-5109
END:VEVENT

END:VCALENDAR
