BEGIN:VCALENDAR
VERSION:2.0
PRODID:-//ChamberMaster//Event Calendar 2.0//EN
METHOD:PUBLISH
X-PUBLISHED-TTL:P3D
REFRESH-INTERVAL:P3D
CALSCALE:GREGORIAN
BEGIN:VEVENT
DTSTART;VALUE=DATE:20130718
DTEND;VALUE=DATE:20130809
TRANSP:TRANSPARENT
X-MICROSOFT-CDO-ALLDAYEVENT:TRUE
SUMMARY:Give Back Packs - Chamber Community Giving Program
DESCRIPTION:This year more than 1\,200 students are registered to receive assistance through the school district and community.  These students are unlikely to have the necessary supplies or clothing to attend school. \n\n\n\nWhy it makes a difference:  Studies show that inequality in the necessary tools and materials in the learning environment increase the developmental delay in students.  Studies have also cited that students regard the inequality of supplies as lack of care or interest in that student degrading their self-esteem and confidence needed to be successful in school and eventually finding a job which could end the poverty cycle.  This gap in equality creates a sense of disenfranchisement.  \n\n\n\nHow you can help:  Donate a backpack or make a monetary contribution.\n\n\n	Backpacks will be collected at the Colleyville Chamber office until August 8th and delivered to the students through the Back-to-School Fair on August 10th.\n\n	 \n	If you prefer\, the Chamber is collecting $35 for a school supply pack.  This pack includes all the supplies on the list provided by the School District. \n\n	 \n	For a small donation of $50 the students will be provided both the backpack and the school supply pack.\n\nBACK PACKS AND DONATIONS CAN BE MADE THROUGH AUGUST 8\, 2013.
X-ALT-DESC;FMTTYPE=text/html:<span style="font-size: 11pt\;"><span style="font-family: century gothic\,sans-serif\;">This year more than 1\,200 students are registered to receive assistance through the school district and community.&nbsp\; These students are unlikely to have the necessary supplies or clothing to attend school. </span></span><br />\n<br />\n<strong><span style="font-size: 11pt\;"><span style="font-family: century gothic\,sans-serif\;"><span style="color: rgb(23\, 54\, 93)\;">Why it makes a difference</span></span></span></strong><span style="font-size: 11pt\;"><span style="font-family: century gothic\,sans-serif\;">:&nbsp\; Studies show that inequality in the necessary tools and materials in the learning environment increase the developmental delay in students.&nbsp\; Studies have also cited that students regard the inequality of supplies as lack of care or interest in that student degrading their self-esteem and confidence needed to be successful in school and eventually finding a job which could end the poverty cycle.&nbsp\; This gap in equality creates a sense of disenfranchisement.&nbsp\; </span></span><br />\n<br />\n<strong><span style="font-size: 11pt\;"><span style="font-family: century gothic\,sans-serif\;"><span style="color: rgb(23\, 54\, 93)\;">How you can help:</span></span></span></strong>&nbsp\; <span style="font-size: 11pt\;"><span style="font-family: century gothic\,sans-serif\;">Donate a backpack or make a monetary contribution.</span></span>\n\n<ul>\n	<li><span style="font-size: 11pt\;"><span style="font-family: century gothic\,sans-serif\;">Backpacks will be collected at the Colleyville Chamber office until <strong>August 8<sup>th</sup></strong> and delivered to the students through the Back-to-School Fair on August 10<sup>th</sup>.</span></span><br />\n	&nbsp\;</li>\n	<li><span style="font-size: 11pt\;"><span style="font-family: century gothic\,sans-serif\;">If you prefer\, the Chamber is collecting $35 for a school supply pack.&nbsp\; This pack includes all the supplies on the list provided by the School District.&nbsp\;</span></span><br />\n	&nbsp\;</li>\n	<li><span style="font-size: 11pt\;"><span style="font-family: century gothic\,sans-serif\;">For a small donation of $50 the students will be provided both the backpack and the school supply pack.</span></span></li>\n</ul>\n<strong><span style="font-size: 11pt\;"><span style="font-family: century gothic\,sans-serif\;"><span style="color: black\;">BACK PACKS AND DONATIONS CAN BE MADE THROUGH AUGUST 8\, 2013.&nbsp\; </span></span></span></strong>
LOCATION:
UID:e.642.5704
SEQUENCE:3
DTSTAMP:20260422T175017Z
URL:https://business.colleyvillechamber.org/events/details/give-back-packs-chamber-community-giving-program-07-18-2013-5704
END:VEVENT

END:VCALENDAR
