BEGIN:VCALENDAR
VERSION:2.0
PRODID:-//ChamberMaster//Event Calendar 2.0//EN
METHOD:PUBLISH
X-PUBLISHED-TTL:P3D
REFRESH-INTERVAL:P3D
CALSCALE:GREGORIAN
BEGIN:VEVENT
DTSTART:20130608T233000Z
DTEND:20130609T040000Z
X-MICROSOFT-CDO-ALLDAYEVENT:FALSE
SUMMARY:"Give Hunger the Boot" Dinner & Party
DESCRIPTION:Support Metroport Meals On Wheels and "Give Hunger the Boot"! Raffles\, Silent and Live Auctions\, Dinner and Live Music featuring The Roof Raisers! Early Registration Prices through May 15th!
X-ALT-DESC;FMTTYPE=text/html:Support Metroport Meals On Wheels and &quot\;Give Hunger the Boot&quot\;! Raffles\, Silent and Live Auctions\, Dinner and Live Music featuring The Roof Raisers! Early Registration Prices through May 15th!<br />\n<br />\n
LOCATION:Marriott Solana
UID:e.642.5641
SEQUENCE:3
DTSTAMP:20260424T083418Z
URL:https://business.colleyvillechamber.org/events/details/give-hunger-the-boot-dinner-party-06-08-2013-5641
END:VEVENT

END:VCALENDAR
