BEGIN:VCALENDAR
VERSION:2.0
PRODID:-//ChamberMaster//Event Calendar 2.0//EN
METHOD:PUBLISH
X-PUBLISHED-TTL:P3D
REFRESH-INTERVAL:P3D
CALSCALE:GREGORIAN
BEGIN:VEVENT
DTSTART:20130523T230000Z
DTEND:20130524T010000Z
X-MICROSOFT-CDO-ALLDAYEVENT:FALSE
SUMMARY:Glade Road Project Public Meeting
DESCRIPTION:The city of Colleyville's Glade Road Project includes preliminary design work for possible safety and traffic flow improvements along Glade Road\, from one half-mile east of Precinct Line Road to Heritage Avenue. The project seeks to preserve the road's rural character while offering improved accommodation to vehicles\, pedestrians and bicycles. The preliminary design work is anticipated to be completed by early 2014. The city is encouraging the public to provide input on the future of Glade Road.
X-ALT-DESC;FMTTYPE=text/html:<div style="color: gray\;">\n	<span style="color: rgb(0\, 0\, 0)\;">The city of Colleyville&#39\;s Glade Road Project includes preliminary design work for possible safety and traffic flow improvements along Glade Road\, from one half-mile east of Precinct Line Road to Heritage Avenue. The project seeks to preserve the road&#39\;s rural character while offering improved accommodation to vehicles\, pedestrians and bicycles. The preliminary design work is anticipated to be completed by early 2014. The city is encouraging the public to provide input on the future of Glade Road.</span></div>\n
LOCATION:Colleyville Center 5301 Riverwalk Drive Colleyville Texas 76034
UID:e.642.5648
SEQUENCE:3
DTSTAMP:20260422T222850Z
URL:https://business.colleyvillechamber.org/events/details/glade-road-project-public-meeting-05-23-2013-5648
END:VEVENT

END:VCALENDAR
