BEGIN:VCALENDAR
VERSION:2.0
PRODID:-//ChamberMaster//Event Calendar 2.0//EN
METHOD:PUBLISH
X-PUBLISHED-TTL:P3D
REFRESH-INTERVAL:P3D
CALSCALE:GREGORIAN
BEGIN:VEVENT
DTSTART:20150511T233000Z
DTEND:20150513T020000Z
X-MICROSOFT-CDO-ALLDAYEVENT:FALSE
SUMMARY:Glory House 2nd Anniversary Celebration
DESCRIPTION:Glory House 2nd Anniversary Celebration\n\nHosted by Pastors Lanre and Kemi Sobo\n\nMon.\, May 11\, 6:30 - 9:30 p.m.\n\nTue.\, May 12\, 6:30 -9:30 p.m.\n\nTheme:  Possess the Double\n\n5310 Pleasant Run Road\n\nColleyville\, TX  76034
X-ALT-DESC;FMTTYPE=text/html:Glory House 2nd Anniversary Celebration<br />\nHosted by Pastors Lanre and Kemi Sobo<br />\nMon.\, May 11\, 6:30 - 9:30 p.m.<br />\nTue.\, May 12\, 6:30 -9:30 p.m.<br />\nTheme:&nbsp\; Possess the Double<br />\n5310 Pleasant Run Road<br />\nColleyville\, TX&nbsp\; 76034
LOCATION:
UID:e.642.7993
SEQUENCE:3
DTSTAMP:20260421T084035Z
URL:https://business.colleyvillechamber.org/events/details/glory-house-2nd-anniversary-celebration-05-11-2015-7993
END:VEVENT

END:VCALENDAR
