BEGIN:VCALENDAR
VERSION:2.0
PRODID:-//ChamberMaster//Event Calendar 2.0//EN
METHOD:PUBLISH
X-PUBLISHED-TTL:P3D
REFRESH-INTERVAL:P3D
CALSCALE:GREGORIAN
BEGIN:VEVENT
DTSTART:20240703T143000Z
DTEND:20240703T153000Z
X-MICROSOFT-CDO-ALLDAYEVENT:FALSE
SUMMARY:Golf COMMITTEE MEETING
DESCRIPTION:Planning Meeting for Golf Classic
X-ALT-DESC;FMTTYPE=text/html:Planning Meeting for Golf Classic&nbsp\;
LOCATION:Colleyville Chamber
UID:e.642.30598
SEQUENCE:3
DTSTAMP:20260423T071408Z
URL:https://business.colleyvillechamber.org/events/details/golf-committee-meeting-30598
END:VEVENT

END:VCALENDAR
