BEGIN:VCALENDAR
VERSION:2.0
PRODID:-//ChamberMaster//Event Calendar 2.0//EN
METHOD:PUBLISH
X-PUBLISHED-TTL:P3D
REFRESH-INTERVAL:P3D
CALSCALE:GREGORIAN
BEGIN:VEVENT
DTSTART:20141101T160000Z
DTEND:20141101T200000Z
X-MICROSOFT-CDO-ALLDAYEVENT:FALSE
SUMMARY:Grand Opening Celebration - PC-HELP
DESCRIPTION:We have moved to Hurst and would like everyone to come see our new location. We are serving food\, drinks\, and fun. There will be a bounce house for the kids and a raffle for a tablet.
X-ALT-DESC;FMTTYPE=text/html:We have moved&nbsp\;to Hurst&nbsp\;and would like everyone to come see our new location. We are serving food\, drinks\, and fun. There will be a bounce house for the kids and a raffle for a tablet.
LOCATION:508 Harwood Rd\, Hurst\, TX 76054
UID:e.642.7024
SEQUENCE:3
DTSTAMP:20260421T171646Z
URL:https://business.colleyvillechamber.org/events/details/grand-opening-celebration-pc-help-11-01-2014-7024
END:VEVENT

END:VCALENDAR
