BEGIN:VCALENDAR
VERSION:2.0
PRODID:-//ChamberMaster//Event Calendar 2.0//EN
METHOD:PUBLISH
X-PUBLISHED-TTL:P3D
REFRESH-INTERVAL:P3D
CALSCALE:GREGORIAN
BEGIN:VEVENT
DTSTART;VALUE=DATE:20120805
DTEND;VALUE=DATE:20120806
TRANSP:TRANSPARENT
X-MICROSOFT-CDO-ALLDAYEVENT:TRUE
SUMMARY:Grand Opening Celebration & Ribbon Cutting Ceremony
DESCRIPTION:Ribbon Cutting & Open House @ 12:30pm\n\nCelebration @ 6:00pm  Food\, Bounce Houses\, Games
X-ALT-DESC;FMTTYPE=text/html:Ribbon Cutting &amp\; Open House @ 12:30pm<br />\nCelebration @ 6:00pm&nbsp\; Food\, Bounce Houses\, Games
LOCATION:Covenant Church Colleyville 3508 Glade Road Colleyville\, TX 76034
UID:e.642.5058
SEQUENCE:3
DTSTAMP:20260423T140623Z
URL:https://business.colleyvillechamber.org/events/details/grand-opening-celebration-ribbon-cutting-ceremony-08-05-2012-5058
END:VEVENT

END:VCALENDAR
