BEGIN:VCALENDAR
VERSION:2.0
PRODID:-//ChamberMaster//Event Calendar 2.0//EN
METHOD:PUBLISH
X-PUBLISHED-TTL:P3D
REFRESH-INTERVAL:P3D
CALSCALE:GREGORIAN
BEGIN:VEVENT
DTSTART:20140405T230000Z
DTEND:20140406T030000Z
X-MICROSOFT-CDO-ALLDAYEVENT:FALSE
SUMMARY:Grateful Hearts Gala and Auction....Fiesta!!
DESCRIPTION:Grateful Hearts Auction and Gala\n\nSaturday\, April 5\, 2014\n\n6 pm - Austin Ranch\n\n2009 Anderson Gibson Rd.\n\nGrapevine\, TX\n\nTicket price which includes dinner is $55
X-ALT-DESC;FMTTYPE=text/html:<h3 style="text-align: center\;"><span style="color:#4B0082\;"><span style="font-family: times new roman\;"><span style="font-size: 36px\;">Grateful Hearts Auction and Gala</span></span></span></h3>\n\n<div style="text-align: center\;"><span style="font-size:28px\;"><span style="font-family: times new roman\;">Saturday\, April 5\, 2014</span></span></div>\n\n<div style="text-align: center\;"><span style="font-size:28px\;"><span style="font-family: times new roman\;">6 pm - Austin Ranch<br />\n2009 Anderson Gibson Rd.<br />\nGrapevine\, TX<br />\nTicket price which includes dinner is $55</span></span><br />\n<br />\n&nbsp\;</div>\n
LOCATION:Austin Ranch 2009 Anderson Gibson Road Grapevine\, TX
UID:e.642.6838
SEQUENCE:3
DTSTAMP:20260422T052228Z
URL:https://business.colleyvillechamber.org/events/details/grateful-hearts-gala-and-auction-fiesta-04-05-2014-6838
END:VEVENT

END:VCALENDAR
