BEGIN:VCALENDAR
VERSION:2.0
PRODID:-//ChamberMaster//Event Calendar 2.0//EN
METHOD:PUBLISH
X-PUBLISHED-TTL:P3D
REFRESH-INTERVAL:P3D
CALSCALE:GREGORIAN
BEGIN:VEVENT
DTSTART:20150313T200000Z
DTEND:20150313T230000Z
X-MICROSOFT-CDO-ALLDAYEVENT:FALSE
SUMMARY:Health and Wellness Event
DESCRIPTION:A FREE EVENT brought to you by your NEIGHBORHOOD Wal-Mart and FIT FOR LIFE.\n\n	See how wellness can be measured\n	Review your prescriptions and OTC medications\n	Discuss your fitness with a personal trainer\n	Learn about the recommended vaccines\n	Blood Pressure Check\n	Giveaways
X-ALT-DESC;FMTTYPE=text/html:A FREE EVENT brought to you by your NEIGHBORHOOD Wal-Mart and FIT FOR LIFE.\n<ul>\n	<li>See how wellness can be measured</li>\n	<li>Review your prescriptions and OTC medications</li>\n	<li>Discuss your fitness with a personal trainer</li>\n	<li>Learn about the recommended vaccines</li>\n	<li>Blood Pressure Check</li>\n	<li><span style="line-height: 1.6\;">Giveaways</span></li>\n</ul>\n
LOCATION:Wal-Mart in Colleyville
UID:e.642.7550
SEQUENCE:3
DTSTAMP:20260421T123945Z
URL:https://business.colleyvillechamber.org/events/details/health-and-wellness-event-03-13-2015-7550
END:VEVENT

END:VCALENDAR
