BEGIN:VCALENDAR
VERSION:2.0
PRODID:-//ChamberMaster//Event Calendar 2.0//EN
METHOD:PUBLISH
X-PUBLISHED-TTL:P3D
REFRESH-INTERVAL:P3D
CALSCALE:GREGORIAN
BEGIN:VEVENT
DTSTART:20130611T163000Z
DTEND:20130611T183000Z
X-MICROSOFT-CDO-ALLDAYEVENT:FALSE
SUMMARY:Health Care Reform
DESCRIPTION:Is complying with the new Health Care Reform raising your blood pressure?  Join us for a complimentary seminar on Health Care Reform led by Scott Anderson\, Employee Benefits Expert\, McGriff\, Seibels & Williams of Texas\, Inc.\n\n\n\nBB&T Bank Branch - Colleyville\n\n1201 Church St\n\nColleyville\, TX  76034\n\n\n\nPlease reserve your spot today by calling\n\n817-849-1882
X-ALT-DESC;FMTTYPE=text/html:Is complying with the new Health Care Reform raising your blood pressure?&nbsp\; Join us for a complimentary seminar on Health Care Reform led by Scott Anderson\, Employee Benefits Expert\, McGriff\, Seibels &amp\; Williams of Texas\, Inc.<br />\n<br />\nBB&amp\;T Bank Branch - Colleyville<br />\n1201 Church St<br />\nColleyville\, TX&nbsp\; 76034<br />\n<br />\nPlease reserve your spot today by calling<br />\n817-849-1882
LOCATION:BB&T Bank - Colleyville 1201 Church St
UID:e.642.5669
SEQUENCE:3
DTSTAMP:20260422T210024Z
URL:https://business.colleyvillechamber.org/events/details/health-care-reform-06-11-2013-5669
END:VEVENT

END:VCALENDAR
