BEGIN:VCALENDAR
VERSION:2.0
PRODID:-//ChamberMaster//Event Calendar 2.0//EN
METHOD:PUBLISH
X-PUBLISHED-TTL:P3D
REFRESH-INTERVAL:P3D
CALSCALE:GREGORIAN
BEGIN:VEVENT
DTSTART:20131010T230000Z
DTEND:20131011T020000Z
X-MICROSOFT-CDO-ALLDAYEVENT:FALSE
SUMMARY:Hearts and Hope Gala with Mrs Laura Bush - Community Enrichment Center
DESCRIPTION:
X-ALT-DESC;FMTTYPE=text/html:
LOCATION:Southlake Hilton Town Square
UID:e.642.5754
SEQUENCE:3
DTSTAMP:20260422T150811Z
URL:https://business.colleyvillechamber.org/events/details/hearts-and-hope-gala-with-mrs-laura-bush-community-enrichment-center-10-10-2013-5754
END:VEVENT

END:VCALENDAR
