BEGIN:VCALENDAR
VERSION:2.0
PRODID:-//ChamberMaster//Event Calendar 2.0//EN
METHOD:PUBLISH
X-PUBLISHED-TTL:P3D
REFRESH-INTERVAL:P3D
CALSCALE:GREGORIAN
BEGIN:VEVENT
DTSTART:20240120T170000Z
DTEND:20240120T210000Z
X-MICROSOFT-CDO-ALLDAYEVENT:FALSE
SUMMARY:Heralth & Wellness Block Party
DESCRIPTION:Health & Wellness Block Party
X-ALT-DESC;FMTTYPE=text/html:Health &amp\; Wellness Block Party
LOCATION:5600 Colleyville Blvd. Colleyville\, TX 76034
UID:e.642.30070
SEQUENCE:3
DTSTAMP:20260423T153040Z
URL:https://business.colleyvillechamber.org/events/details/heralth-wellness-block-party-30070
END:VEVENT

END:VCALENDAR
