BEGIN:VCALENDAR
VERSION:2.0
PRODID:-//ChamberMaster//Event Calendar 2.0//EN
METHOD:PUBLISH
X-PUBLISHED-TTL:P3D
REFRESH-INTERVAL:P3D
CALSCALE:GREGORIAN
BEGIN:VEVENT
DTSTART:20131211T003000Z
DTEND:20131211T023000Z
X-MICROSOFT-CDO-ALLDAYEVENT:FALSE
SUMMARY:Hindsight\, Insight and Foresight Womens Workshop
DESCRIPTION:Life Lessons for Women presents\, "Hindsight\, Insight\, and Foresight"\, a free seminar presented by professional women in the local area whose sole mission is to support and inspire other women.\n\n\n\nThe seminar will feature 2 presenters who have been active in this area for over 20 years. It is their wish to share some of their life experiences and plan to offer productive skills for women to excel in whatever path they choose for their lives.\n\n\n\nLynn Bryant\, CPA and founder of Life Lessons for Women\, will share her journey as a wife\, then widow and the strength she gained from the compassion shown to her by other women. She will discuss the game of life and the satisfaction and fulfillment you can achieve when you reach your full potential.\n\n\n\nLynn Bryant has been in business for 24 years as a CPA and has her PFS (Personal Financial Specialist) accreditation. She has been in business for 14 years as a financial advisor and has won the 5 Star Award for Wealth Managers for 5 years in a row.\n\n\n\nDr. Robin Hall of Destination Health\, will share her journey of challenges and successes.  She will provide you with insight regarding how your response to stress and anger can cause disease and what to do to prevent it.\n\n\n\nDr. Robin Hall\, board certified in family medicine\, has over 21 years in clinical practice in the North Texas area.  She is a recipient of many awards for patient care excellence and is a well-known health education speaker.\n\n\n\nThe seminar will be held at the Colleyville Center on Tuesday\, December 10th at 6:30 p.m.\n\nSeated is limited.  Call  (817) 427-7650 by December 5 to RSVP.
X-ALT-DESC;FMTTYPE=text/html:Life Lessons for Women presents\, &quot\;Hindsight\, Insight\, and Foresight&quot\;\, a free seminar presented by professional women in the local area whose sole mission is to support and inspire other women.<br />\n<br />\nThe seminar will feature 2 presenters who have been active in this area for over 20 years. It is their wish to share some of their life experiences and plan to offer productive skills for women to excel in whatever path they choose for their lives.<br />\n<br />\nLynn Bryant\, CPA and founder of Life Lessons for Women\, will share her journey as a wife\, then widow and the strength she gained from the compassion shown to her by other women. She will discuss the game of life and the satisfaction and fulfillment you can achieve when you reach your full potential.<br />\n<br />\nLynn Bryant has been in business for 24 years as a CPA and has her PFS (Personal Financial Specialist) accreditation. She has been in business for 14 years as a financial advisor and has won the 5 Star Award for Wealth Managers for 5 years in a row.<br />\n<br />\nDr. Robin Hall of Destination Health\, will share her journey of challenges and successes.&nbsp\; She will provide you with insight regarding how your response to stress and anger can cause disease and what to do to prevent it.<br />\n<br />\nDr. Robin Hall\, board certified in family medicine\, has over 21 years in clinical practice in the North Texas area.&nbsp\; She is a recipient of many awards for patient care excellence and is a well-known health education speaker.<br />\n<br />\nThe seminar will be held at the Colleyville Center on Tuesday\, December 10th at 6:30 p.m.<br />\nSeated is limited.&nbsp\; Call&nbsp\; (817) 427-7650 by December 5 to RSVP.
LOCATION:Colleyville Center
UID:e.642.5999
SEQUENCE:3
DTSTAMP:20260422T114341Z
URL:https://business.colleyvillechamber.org/events/details/hindsight-insight-and-foresight-womens-workshop-12-10-2013-5999
END:VEVENT

END:VCALENDAR
