BEGIN:VCALENDAR
VERSION:2.0
PRODID:-//ChamberMaster//Event Calendar 2.0//EN
METHOD:PUBLISH
X-PUBLISHED-TTL:P3D
REFRESH-INTERVAL:P3D
CALSCALE:GREGORIAN
BEGIN:VEVENT
DTSTART:20121130T223000Z
DTEND:20121201T023000Z
X-MICROSOFT-CDO-ALLDAYEVENT:FALSE
SUMMARY:Holly Colley Holiday
DESCRIPTION:The event features lighting of the city tree\, visits with Santa\, games\, arts and crafts\, community trees\, musical performances\, dance troupes\, appearances by local children's choirs\, and more. The event and parking are free.
X-ALT-DESC;FMTTYPE=text/html:The event features lighting of the city tree\, visits with Santa\, games\, arts and crafts\, community trees\, musical performances\, dance troupes\, appearances by local children&rsquo\;s choirs\, and more. The event and parking are free.
LOCATION:The Village at Colleyville
UID:e.642.5126
SEQUENCE:3
DTSTAMP:20260423T084627Z
URL:https://business.colleyvillechamber.org/events/details/holly-colley-holiday-11-30-2012-5126
END:VEVENT

END:VCALENDAR
