BEGIN:VCALENDAR
VERSION:2.0
PRODID:-//ChamberMaster//Event Calendar 2.0//EN
METHOD:PUBLISH
X-PUBLISHED-TTL:P3D
REFRESH-INTERVAL:P3D
CALSCALE:GREGORIAN
BEGIN:VEVENT
DTSTART:20221203T153000Z
DTEND:20221203T180000Z
X-MICROSOFT-CDO-ALLDAYEVENT:FALSE
SUMMARY:Hope and Help for the Holiday's
DESCRIPTION:Enjoy a yummy brunch with like minded people interested in learning tips and tools to support your emotions for a more enjoyable holiday season.\n\n\n\nIn this hands on workshop\, you will learn valuable information and tools that can be implemented the same day\, through the holiday season\, and beyond.
X-ALT-DESC;FMTTYPE=text/html:<div>\n<p>Enjoy a yummy brunch with like minded people interested in learning tips and tools to support your emotions for a more enjoyable holiday season.<br />\n<br />\nIn this hands on workshop\, you will learn valuable information and tools that can be implemented the same day\, through the holiday season\, and beyond.</p>\n</div>\n
LOCATION:Grapevine Birthing Center Conference Room 409 West Wall Street\, Grapevine\, Texas\, 76051\, United States
UID:e.642.27126
SEQUENCE:3
DTSTAMP:20260424T130102Z
URL:https://business.colleyvillechamber.org/events/details/hope-and-help-for-the-holiday-s-27126
END:VEVENT

END:VCALENDAR
