BEGIN:VCALENDAR
VERSION:2.0
PRODID:-//ChamberMaster//Event Calendar 2.0//EN
METHOD:PUBLISH
X-PUBLISHED-TTL:P3D
REFRESH-INTERVAL:P3D
CALSCALE:GREGORIAN
BEGIN:VEVENT
DTSTART:20130323T150000Z
DTEND:20130323T170000Z
X-MICROSOFT-CDO-ALLDAYEVENT:FALSE
SUMMARY:Hoppin' Good Egg Hunt
DESCRIPTION:The 7th annual candy-free Hoppin' Good Egg Hunt at the Villages of Colleyville.  The free event is geared to children ages 12 and under.
X-ALT-DESC;FMTTYPE=text/html:The 7th annual candy-free Hoppin&#39\; Good Egg Hunt at the Villages of Colleyville.&nbsp\; The free event is geared to children ages 12 and under.&nbsp\; 
LOCATION:
UID:e.642.5618
SEQUENCE:3
DTSTAMP:20260423T015719Z
URL:https://business.colleyvillechamber.org/events/details/hoppin-good-egg-hunt-03-23-2013-5618
END:VEVENT

END:VCALENDAR
