BEGIN:VCALENDAR
VERSION:2.0
PRODID:-//ChamberMaster//Event Calendar 2.0//EN
METHOD:PUBLISH
X-PUBLISHED-TTL:P3D
REFRESH-INTERVAL:P3D
CALSCALE:GREGORIAN
BEGIN:VEVENT
DTSTART:20230228T160000Z
DTEND:20230228T170000Z
X-MICROSOFT-CDO-ALLDAYEVENT:FALSE
SUMMARY:How's Your Life?
DESCRIPTION:Welcome to How's Your Life Education!!! The excitement of living a fuller life is something that most people are searching for regardless of the level of achievement one has already attained. Those in attendance will learn of a strategy that has been around for over 2 centuries and has been only taught to the super wealthy. No sales will be made at this session. The purpose is strictly educational and appointment can be made for customized information. So come by and learn information that can be applied the very same day it is taught. Look forward to see you there. Please RSVP by text to (469) 556-2071.
X-ALT-DESC;FMTTYPE=text/html:Welcome to How&#39\;s Your Life Education!!! The excitement of living a fuller life is something that most people are searching for regardless&nbsp\;of the level of achievement one has already&nbsp\;attained. Those in attendance will learn of a strategy that has been around for over 2 centuries and has been only taught to the super wealthy. No sales will be&nbsp\;made at this session. The purpose is strictly educational and appointment can be made for customized information. So come by and learn information that can be applied the very same day it is taught. Look forward to see you there. Please RSVP by text to (469) 556-2071.
LOCATION:Frost Bank 4718 Colleyville Blvd Suite 100 Colleyville\, Tx 76034
UID:e.642.27211
SEQUENCE:3
DTSTAMP:20260424T071754Z
URL:https://business.colleyvillechamber.org/events/details/how-s-your-life-02-28-2023-27211
END:VEVENT

END:VCALENDAR
