BEGIN:VCALENDAR
VERSION:2.0
PRODID:-//ChamberMaster//Event Calendar 2.0//EN
METHOD:PUBLISH
X-PUBLISHED-TTL:P3D
REFRESH-INTERVAL:P3D
CALSCALE:GREGORIAN
BEGIN:VEVENT
DTSTART:20221209T223000Z
DTEND:20221210T013000Z
X-MICROSOFT-CDO-ALLDAYEVENT:FALSE
SUMMARY:Improver Group - Fajitas with Friends
DESCRIPTION:You are invited to our Improver Network Fajitas with Friends event!  It's a Christmas Fiesta! \n\nCome check out the new Improver HQ and mix/mingle over fajitas and other refreshments.\n\nThis is a free event (RSVP required at https://heartbeat.improver.network/events/2A8EC9).\n\nNo strict program or agenda for this event\, so come and go as your schedule and preferences allow. Let us know if you have questions by emailing support@improver.network.\n\n\n\nNetworking   Food   Open House
X-ALT-DESC;FMTTYPE=text/html:<p><span style="font-size:14px"><span style="font-family:arial\,helvetica\,sans-serif">You are invited to our Improver Network Fajitas with Friends event!&nbsp\; It&#39\;s a Christmas Fiesta!&nbsp\;</span></span></p>\n\n<p><span style="font-size:14px"><span style="font-family:arial\,helvetica\,sans-serif">Come check out the new Improver HQ and mix/mingle over fajitas and other refreshments.</span></span></p>\n\n<p><span style="font-size:14px"><span style="font-family:arial\,helvetica\,sans-serif">This is a free event (RSVP required at <a href="https://heartbeat.improver.network/events/2A8EC9">https://heartbeat.improver.network/events/2A8EC9</a>).</span></span></p>\n\n<p><span style="font-size:14px"><span style="font-family:arial\,helvetica\,sans-serif">No strict program or agenda for this event\, so come and go as your schedule and preferences allow. Let us know if you have questions by emailing support@improver.network.<br />\n<br />\nNetworking &bull\; Food &bull\; Open House</span></span></p>\n
LOCATION:Improver HQ 6420 Colleyville Road\, Suite 104\, Colleyville\, TX 76034 (Next door to Montclair Wedding and Event Center)
UID:e.642.27125
SEQUENCE:3
DTSTAMP:20260424T112758Z
URL:https://business.colleyvillechamber.org/events/details/improver-group-fajitas-with-friends-27125
END:VEVENT

END:VCALENDAR
