BEGIN:VCALENDAR
VERSION:2.0
PRODID:-//ChamberMaster//Event Calendar 2.0//EN
METHOD:PUBLISH
X-PUBLISHED-TTL:P3D
REFRESH-INTERVAL:P3D
CALSCALE:GREGORIAN
BEGIN:VEVENT
DTSTART:20141119T000000Z
DTEND:20141119T020000Z
X-MICROSOFT-CDO-ALLDAYEVENT:FALSE
SUMMARY:INCH LOSS LASER - Free Informational Seminar
DESCRIPTION:How would you feel if in only 4 weeks you could...\n\n\n	\n	Fit into that little black dress\n	\n	\n	Look fantastic at holiday parties\n	\n	\n	Have a new image in your holiday card\n	\n\n\nJoin us at this free event to:\n\n\n	\n	Get the skinny on the Strawberry LiLa Inch Loss Laser\, exclusively at Energy Health Centre\n	\n	\n	Be introduced to effective weight loss supplements\n	\n	\n	Find out how Energy Health Centre's detoxification and weight loss programs can supplement your inch loss\n	\n	\n	Get a complimentary consultation to find out if you are a good candidate for the Inch Loss Laser\n	\n	\n	Attendees will receive an additional discount on inch loss packages purchased at this event.\n	\n\n\nContact info@energyhealth.com to reserve your spot!\n\n Tell a friend!\n\nLight refreshments will be available.
X-ALT-DESC;FMTTYPE=text/html:<h2><strong>How would you feel if in only&nbsp\;4 weeks you could...</strong></h2>\n\n<ul>\n	<li>\n	<h2>Fit into that little black dress</h2>\n	</li>\n	<li>\n	<h2>Look fantastic at holiday parties</h2>\n	</li>\n	<li>\n	<h2>Have a new image in your holiday card</h2>\n	</li>\n</ul>\n\n<h2><span style="color: rgb(0\, 0\, 128)\;"><strong>Join us at this&nbsp\;free&nbsp\;event to:</strong></span></h2>\n\n<ul>\n	<li>\n	<h2>Get the skinny on the Strawberry LiLa Inch Loss Laser\, exclusively at Energy Health Centre</h2>\n	</li>\n	<li>\n	<h2>Be introduced to effective weight loss supplements</h2>\n	</li>\n	<li>\n	<h2>Find out how Energy Health Centre&rsquo\;s detoxification and weight loss programs can supplement your inch loss</h2>\n	</li>\n	<li>\n	<h2>Get a complimentary consultation to find out if you are a good candidate for the Inch Loss Laser</h2>\n	</li>\n	<li>\n	<h2><span style="color: rgb(255\, 0\, 0)\;"><strong>Attendees will receive an additional discount on inch loss&nbsp\;packages purchased at this event.</strong></span></h2>\n	</li>\n</ul>\n\n<h2 style="text-align: center\;"><strong><span style="font-family: verdana\;"><span style="color: rgb(0\, 0\, 128)\;"><span style="background-color: rgb(255\, 215\, 0)\;">Contact info@energyhealth.com to reserve your spot!</span></span></span></strong><br />\n&nbsp\;Tell a friend!</h2>\n\n<h3>Light refreshments will be available.</h3>\n
LOCATION:Energy Health Centre 6221 Colleyville Blvd. Suite 100 Colleyville TX 76034
UID:e.642.7247
SEQUENCE:3
DTSTAMP:20260421T172155Z
URL:https://business.colleyvillechamber.org/events/details/inch-loss-laser-free-informational-seminar-11-18-2014-7247
END:VEVENT

END:VCALENDAR
