BEGIN:VCALENDAR
VERSION:2.0
PRODID:-//ChamberMaster//Event Calendar 2.0//EN
METHOD:PUBLISH
X-PUBLISHED-TTL:P3D
REFRESH-INTERVAL:P3D
CALSCALE:GREGORIAN
BEGIN:VEVENT
DTSTART:20150521T220000Z
DTEND:20150521T233000Z
X-MICROSOFT-CDO-ALLDAYEVENT:FALSE
SUMMARY:Inch Loss Laser - Lose inches in just 4 weeks
DESCRIPTION:It's time to Spring into the NEW YOU\n\n\n\nHealthy eating and exercise may not be enough for those stubborn areas of fat.\n\nOur clients are losing inches and feeling great!\n\n \n\nSay goodbye to stubborn fat in under 4 weeks with this pain-free\, quick\, effective treatment.\n\n \n\nJOIN US TO LEARN ALL ABOUT THIS FDA CLEARED INCH LOSS LASER\n\n \n\nTHURSDAY May 21st @ 5:00 pm\n\n\n\nRegister for this complimentary event at info@energyhealth.com
X-ALT-DESC;FMTTYPE=text/html:It&#39\;s time to Spring into the NEW YOU<br />\n<br />\nHealthy eating and exercise may not be enough for those stubborn areas of fat.<br />\nOur clients are losing inches and feeling great!<br />\n&nbsp\;<br />\nSay goodbye to stubborn fat in under 4 weeks&nbsp\;with this pain-free\, quick\, effective treatment.<br />\n&nbsp\;<br />\nJOIN US TO LEARN ALL ABOUT THIS FDA CLEARED INCH LOSS LASER<br />\n&nbsp\;<br />\nTHURSDAY May 21st @ 5:00 pm<br />\n<br />\nRegister for this complimentary event at info@energyhealth.com<br />\n&nbsp\;<br />\n&nbsp\;
LOCATION:6221 Colleyville Blvd.\, Suite 100 Colleyville TX 76034
UID:e.642.7997
SEQUENCE:3
DTSTAMP:20260423T090502Z
URL:https://business.colleyvillechamber.org/events/details/inch-loss-laser-lose-inches-in-just-4-weeks-05-21-2015-7997
END:VEVENT

END:VCALENDAR
