BEGIN:VCALENDAR
VERSION:2.0
PRODID:-//ChamberMaster//Event Calendar 2.0//EN
METHOD:PUBLISH
X-PUBLISHED-TTL:P3D
REFRESH-INTERVAL:P3D
CALSCALE:GREGORIAN
BEGIN:VEVENT
DTSTART:20150507T220000Z
DTEND:20150508T000000Z
X-MICROSOFT-CDO-ALLDAYEVENT:FALSE
SUMMARY:Indulge: Fashion + Fun for Moms
DESCRIPTION:North East Mall is inviting DFW's chicest moms to celebrate in style at Indulge: Fashion + Fun for Moms. Every mother is invited to indulge in a night of fashion\, beauty\, shopping and fun. \n\n\n\nJoin us for a variety of event elements\, including pampering stations\, light bites and wine tasting\, beauty consultations\, live entertainment\, special Gift With Purchase\, prize an hour giveaway and more!\n\n\n\nIf you are interested in being an exhibitor during the Indulge event\, please contact the North East Mall Marketing Department for event oppportunities.
X-ALT-DESC;FMTTYPE=text/html:North East Mall is inviting DFW&#39\;s chicest moms to celebrate in style at Indulge: Fashion + Fun for Moms. Every mother is invited to indulge in a night of fashion\, beauty\, shopping and fun.&nbsp\;<br />\n<br />\nJoin us for a variety of event elements\, including pampering stations\, light bites and wine tasting\, beauty consultations\, live entertainment\, special Gift With Purchase\, prize an hour giveaway and more!<br />\n<br />\nIf you are interested in being an exhibitor during the Indulge event\, please contact the North East Mall Marketing Department for event oppportunities. 
LOCATION:North East Mall\, Center Court
UID:e.642.6861
SEQUENCE:3
DTSTAMP:20260421T084603Z
URL:https://business.colleyvillechamber.org/events/details/indulge-fashion-fun-for-moms-05-07-2015-6861
END:VEVENT

END:VCALENDAR
