BEGIN:VCALENDAR
VERSION:2.0
PRODID:-//ChamberMaster//Event Calendar 2.0//EN
METHOD:PUBLISH
X-PUBLISHED-TTL:P3D
REFRESH-INTERVAL:P3D
CALSCALE:GREGORIAN
BEGIN:VEVENT
DTSTART:20140405T170000Z
DTEND:20140406T030000Z
X-MICROSOFT-CDO-ALLDAYEVENT:FALSE
SUMMARY:International Tabletop Day
DESCRIPTION:Attention all Chamber Members - Please join us for Open Play and FABULOUS PRIZES at Clockwork Gamer starting at 12:00. Join us as we help celebrate International Tabletop Day! Bring your friends and family for a day of fun around a table. We're your local one stop shop for board games\, video games\, card games\, comics and more! Easy to find next to Market Street in Colleyville.
X-ALT-DESC;FMTTYPE=text/html:Attention all Chamber Members - Please join us for Open Play and FABULOUS PRIZES at Clockwork Gamer starting at 12:00. Join us as we help celebrate International Tabletop Day! Bring your friends and family for a day of fun around a table. We&rsquo\;re your local one stop shop for board games\, video games\, card games\, comics and more! Easy to find next to Market Street in Colleyville.
LOCATION:Clockwork Gamer 5611 Colleyville Blvd #160 Colleyville\, TX 76034
UID:e.642.6852
SEQUENCE:3
DTSTAMP:20260422T051700Z
URL:https://business.colleyvillechamber.org/events/details/international-tabletop-day-04-05-2014-6852
END:VEVENT

END:VCALENDAR
